BEGIN:VCALENDAR
VERSION:2.0
PRODID:icalendar-ruby
CALSCALE:GREGORIAN
METHOD:PUBLISH
BEGIN:VEVENT
DTSTAMP:20260423T153621Z
UID:5-2614766@maplecreekchurch.ca
DTSTART:20260830T163000Z
DTEND:20260830T173000Z
CLASS:PUBLIC
CREATED:20260423T071422
DESCRIPTION:Sunday Service
LAST-MODIFIED:20260423T071422
LOCATION:
SUMMARY:Sunday Service
URL;VALUE=URI:https://www.maplecreekchurch.ca/events/sunday-service/2026-08
 -30
END:VEVENT
END:VCALENDAR
