BEGIN:VCALENDAR
VERSION:2.0
PRODID:icalendar-ruby
CALSCALE:GREGORIAN
METHOD:PUBLISH
BEGIN:VEVENT
DTSTAMP:20260423T171648Z
UID:5-2616019@maplecreekchurch.ca
DTSTART:20260906T163000Z
DTEND:20260906T173000Z
CLASS:PUBLIC
CREATED:20260423T100651
DESCRIPTION:Sunday Service
LAST-MODIFIED:20260423T100651
LOCATION:
SUMMARY:Sunday Service
URL;VALUE=URI:https://www.maplecreekchurch.ca/events/sunday-service/2026-09
 -06
END:VEVENT
END:VCALENDAR
