BEGIN:VCALENDAR
VERSION:2.0
PRODID:icalendar-ruby
CALSCALE:GREGORIAN
METHOD:PUBLISH
BEGIN:VEVENT
DTSTAMP:20260423T184952Z
UID:5-2616020@maplecreekchurch.ca
DTSTART:20260913T163000Z
DTEND:20260913T173000Z
CLASS:PUBLIC
CREATED:20260423T100651
DESCRIPTION:Sunday Service
LAST-MODIFIED:20260423T100651
LOCATION:
SUMMARY:Sunday Service
URL;VALUE=URI:https://www.maplecreekchurch.ca/events/sunday-service/2026-09
 -13
END:VEVENT
END:VCALENDAR
