BEGIN:VCALENDAR
VERSION:2.0
PRODID:icalendar-ruby
CALSCALE:GREGORIAN
METHOD:PUBLISH
BEGIN:VEVENT
DTSTAMP:20260423T202812Z
UID:5-2617273@maplecreekchurch.ca
DTSTART:20260920T163000Z
DTEND:20260920T173000Z
CLASS:PUBLIC
CREATED:20260423T130407
DESCRIPTION:Sunday Service
LAST-MODIFIED:20260423T130407
LOCATION:
SUMMARY:Sunday Service
URL;VALUE=URI:https://www.maplecreekchurch.ca/events/sunday-service/2026-09
 -20
END:VEVENT
END:VCALENDAR
