BEGIN:VCALENDAR
VERSION:2.0
PRODID:icalendar-ruby
CALSCALE:GREGORIAN
METHOD:PUBLISH
BEGIN:VEVENT
DTSTAMP:20260423T231851Z
UID:5-2618527@maplecreekchurch.ca
DTSTART:20261004T163000Z
DTEND:20261004T173000Z
CLASS:PUBLIC
CREATED:20260423T155830
DESCRIPTION:Sunday Service
LAST-MODIFIED:20260423T155830
LOCATION:
SUMMARY:Sunday Service
URL;VALUE=URI:https://www.maplecreekchurch.ca/events/sunday-service/2026-10
 -04
END:VEVENT
END:VCALENDAR
