BEGIN:VCALENDAR
VERSION:2.0
PRODID:icalendar-ruby
CALSCALE:GREGORIAN
METHOD:PUBLISH
BEGIN:VEVENT
DTSTAMP:20260424T022628Z
UID:5-2619781@maplecreekchurch.ca
DTSTART:20261018T163000Z
DTEND:20261018T173000Z
CLASS:PUBLIC
CREATED:20260423T185109
DESCRIPTION:Sunday Service
LAST-MODIFIED:20260423T185109
LOCATION:
SUMMARY:Sunday Service
URL;VALUE=URI:https://www.maplecreekchurch.ca/events/sunday-service/2026-10
 -18
END:VEVENT
END:VCALENDAR
