BEGIN:VCALENDAR
VERSION:2.0
PRODID:icalendar-ruby
CALSCALE:GREGORIAN
METHOD:PUBLISH
BEGIN:VEVENT
DTSTAMP:20260424T040422Z
UID:5-2619782@maplecreekchurch.ca
DTSTART:20261025T163000Z
DTEND:20261025T173000Z
CLASS:PUBLIC
CREATED:20260423T185109
DESCRIPTION:Sunday Service
LAST-MODIFIED:20260423T185109
LOCATION:
SUMMARY:Sunday Service
URL;VALUE=URI:https://www.maplecreekchurch.ca/events/sunday-service/2026-10
 -25
END:VEVENT
END:VCALENDAR
